BEGIN:VCALENDAR
VERSION:2.0
PRODID:-//Tukios.com/
BEGIN:VEVENT
UID:1e09b482-dbd9-4d59-9293-8014fbd75135@www.haverstockfuneralhome.com
DTSTAMP:20260422T084524Z
DTSTART:20260419T170000Z
DTEND:20260419T190000Z
SUMMARY:Visitation
DESCRIPTION:
URL:https://www.haverstockfuneralhome.com/obituaries/dale-lake
LOCATION:Haverstock Funeral Home & Cremation Services 602 Maple Avenue  
	La Porte IN 46350
GEO:41.610408;-86.7182551
END:VEVENT
END:VCALENDAR