BEGIN:VCALENDAR
VERSION:2.0
PRODID:-//Tukios.com/
BEGIN:VEVENT
UID:66a8a54f-cc9e-42e0-8ae1-8986105e9e46@www.haverstockfuneralhome.com
DTSTAMP:20260422T085356Z
DTSTART:20260419T190000Z
DTEND:20260419T200000Z
SUMMARY:Funeral Service
DESCRIPTION:
URL:https://www.haverstockfuneralhome.com/obituaries/dale-lake
LOCATION:Haverstock Funeral Home & Cremation Services 602 Maple Avenue  
	La Porte IN 46350
GEO:41.610408;-86.7182551
END:VEVENT
END:VCALENDAR