BEGIN:VCALENDAR
VERSION:2.0
PRODID:-//Tukios.com/
BEGIN:VEVENT
UID:62d44981-b0ef-408a-a83c-5c17132caed2@www.haverstockfuneralhome.com
DTSTAMP:20260423T235405Z
DTSTART:20260502T180000Z
DTEND:20260502T200000Z
SUMMARY:Visitation
DESCRIPTION:
URL:https://www.haverstockfuneralhome.com/obituaries/john-bennitt
LOCATION:Haverstock Funeral Home and Cremation Services 602 Maple Avenue  
	La Porte IN 46350
GEO:41.610408;-86.7182551
END:VEVENT
END:VCALENDAR