BEGIN:VCALENDAR
VERSION:2.0
PRODID:-//Tukios.com/
BEGIN:VEVENT
UID:c2ef2616-2aa4-494c-8daf-58d6e380f00c@www.haverstockfuneralhome.com
DTSTAMP:20260423T235032Z
DTSTART:20260502T200000Z
DTEND:20260502T210000Z
SUMMARY:Funeral Service
DESCRIPTION:
URL:https://www.haverstockfuneralhome.com/obituaries/john-bennitt
LOCATION:Haverstock Funeral Home and Cremation Services 602 Maple Avenue  
	La Porte IN 46350
GEO:41.610408;-86.7182551
END:VEVENT
END:VCALENDAR