BEGIN:VCALENDAR
VERSION:2.0
PRODID:-//Tukios.com/
BEGIN:VEVENT
UID:ba688842-e020-401b-b00d-fd0748c10339@www.haverstockfuneralhome.com
DTSTAMP:20260419T214106Z
DTSTART:20260422T160000Z
DTEND:20260422T180000Z
SUMMARY:Memorial Gathering
DESCRIPTION:
URL:https://www.haverstockfuneralhome.com/obituaries/rachel-marks
LOCATION:Haverstock Funeral Home and Cremation Services 602 Maple Avenue  
	La Porte IN 46350
GEO:41.610408;-86.7182551
END:VEVENT
END:VCALENDAR