BEGIN:VCALENDAR
VERSION:2.0
PRODID:-//Tukios.com/
BEGIN:VEVENT
UID:3ce9fb8f-1fac-4533-a516-0be8733462c8@www.haverstockfuneralhome.com
DTSTAMP:20260423T192845Z
DTSTART:20260516T160000Z
DTEND:20260516T180000Z
SUMMARY:Visitation
DESCRIPTION:
URL:https://www.haverstockfuneralhome.com/obituaries/thomas-scott
LOCATION:Haverstock Funeral Home and Cremation Services 602 Maple Avenue  
	La Porte IN 46350
GEO:41.610408;-86.7182551
END:VEVENT
END:VCALENDAR