BEGIN:VCALENDAR
VERSION:2.0
PRODID:-//Tukios.com/
BEGIN:VEVENT
UID:73a21d60-987a-4651-b17b-d07f3c763c31@www.haverstockfuneralhome.com
DTSTAMP:20260423T193615Z
DTSTART:20260516T180000Z
DTEND:20260516T190000Z
SUMMARY:Memorial Service
DESCRIPTION:
URL:https://www.haverstockfuneralhome.com/obituaries/thomas-scott
LOCATION:Haverstock Funeral Home and Cremation Services 602 Maple Avenue  
	La Porte IN 46350
GEO:41.610408;-86.7182551
END:VEVENT
END:VCALENDAR